BEGIN:VCALENDAR
VERSION:2.0
PRODID:-//EnsoData - ECPv6.15.20//NONSGML v1.0//EN
CALSCALE:GREGORIAN
METHOD:PUBLISH
X-ORIGINAL-URL:https://www.ensodata.com
X-WR-CALDESC:Events for EnsoData
REFRESH-INTERVAL;VALUE=DURATION:PT1H
X-Robots-Tag:noindex
X-PUBLISHED-TTL:PT1H
BEGIN:VTIMEZONE
TZID:America/Chicago
BEGIN:DAYLIGHT
TZOFFSETFROM:-0600
TZOFFSETTO:-0500
TZNAME:CDT
DTSTART:20230312T080000
END:DAYLIGHT
BEGIN:STANDARD
TZOFFSETFROM:-0500
TZOFFSETTO:-0600
TZNAME:CST
DTSTART:20231105T070000
END:STANDARD
BEGIN:DAYLIGHT
TZOFFSETFROM:-0600
TZOFFSETTO:-0500
TZNAME:CDT
DTSTART:20240310T080000
END:DAYLIGHT
BEGIN:STANDARD
TZOFFSETFROM:-0500
TZOFFSETTO:-0600
TZNAME:CST
DTSTART:20241103T070000
END:STANDARD
BEGIN:DAYLIGHT
TZOFFSETFROM:-0600
TZOFFSETTO:-0500
TZNAME:CDT
DTSTART:20250309T080000
END:DAYLIGHT
BEGIN:STANDARD
TZOFFSETFROM:-0500
TZOFFSETTO:-0600
TZNAME:CST
DTSTART:20251102T070000
END:STANDARD
END:VTIMEZONE
BEGIN:VEVENT
DTSTART;TZID=America/Chicago:20241020T080000
DTEND;TZID=America/Chicago:20241023T170000
DTSTAMP:20260421T034646
CREATED:20240919T212516Z
LAST-MODIFIED:20241010T204740Z
UID:8151-1729411200-1729702800@www.ensodata.com
SUMMARY:HLTH 2024
DESCRIPTION:HLTH 2024: EnsoData’s Sleep AI reaches Cardiology and Pulmonology\nEnsoData’s Sleep AI has diagnosed 1.7M patients\, monitors 150K patients on therapy\, and streamlines care for 1-in-10 US Sleep Apnea patients. Now\, we’re launching AI capabilities to break down care silos across Sleep\, Cardiac\, and Pulmonary care delivery. Hear all about it at HLTH 2024. \nEnsoData’s CRO\, Chris Fernandez\, will be speaking on the future of merging healthcare specialities and how sleep is poised to intersect with cardiology and neurology.
URL:https://www.hlth.com/2024event/agenda#new_tab
ATTACH;FMTTYPE=image/png:https://www.ensodata.com/wp-content/uploads/2024/09/HLTH-2024-EnsoDatas-Sleep-AI-Reaches-Cardiology-and-Pulmonology.png
END:VEVENT
END:VCALENDAR